BEGIN:VCALENDAR
VERSION:2.0
PRODID:spatie/icalendar-generator
DESCRIPTION:Events from Lab Support Facility
X-WR-CALDESC:Events from Lab Support Facility
REFRESH-INTERVAL;VALUE=DURATION:PT1440M
X-PUBLISHED-TTL:PT1440M
BEGIN:VTIMEZONE
TZID:Europe/Vienna
BEGIN:STANDARD
DTSTART:20251026T030000Z
TZOFFSETFROM:+0200
TZOFFSETTO:+0100
END:STANDARD
BEGIN:DAYLIGHT
DTSTART:20260329T020000Z
TZOFFSETFROM:+0100
TZOFFSETTO:+0200
END:DAYLIGHT
BEGIN:STANDARD
DTSTART:20261025T030000Z
TZOFFSETFROM:+0200
TZOFFSETTO:+0100
END:STANDARD
END:VTIMEZONE
BEGIN:VTIMEZONE
TZID:UTC
BEGIN:STANDARD
DTSTART:20250724T074320Z
TZOFFSETFROM:+0000
TZOFFSETTO:+0000
END:STANDARD
END:VTIMEZONE
BEGIN:VEVENT
UID:4-4
DTSTAMP:20260420T074320Z
SUMMARY:Cell culture Training
LOCATION:
ORGANIZER;CN=Margarita Eustacchio:MAILTO:Margarita.Eustacchio@ist.ac.at
DTSTART;TZID=Europe/Vienna:20260513T130000
DTEND;TZID=Europe/Vienna:20260513T140000
X-ALT-DESC;FMTTYPE=TEXT/HTML:Please register here: https://www.termino.gv.a
 t/meet/en/b/ffc35a3c0500822d428edb24f0eded33-420656 &amp;nbsp\;
CATEGORIES:Cell culture Training
URL;VALUE=URI:https://lsf.pages.ist.ac.at/mc-events/cell-culture-training-3
 /
METHOD:PUBLISH
END:VEVENT
END:VCALENDAR