BEGIN:VCALENDAR
VERSION:2.0
PRODID:spatie/icalendar-generator
DESCRIPTION:Events from Lab Support Facility
X-WR-CALDESC:Events from Lab Support Facility
REFRESH-INTERVAL;VALUE=DURATION:PT1440M
X-PUBLISHED-TTL:PT1440M
BEGIN:VTIMEZONE
TZID:Europe/Vienna
BEGIN:STANDARD
DTSTART:20251026T030000Z
TZOFFSETFROM:+0200
TZOFFSETTO:+0100
END:STANDARD
BEGIN:DAYLIGHT
DTSTART:20260329T020000Z
TZOFFSETFROM:+0100
TZOFFSETTO:+0200
END:DAYLIGHT
BEGIN:STANDARD
DTSTART:20261025T030000Z
TZOFFSETFROM:+0200
TZOFFSETTO:+0100
END:STANDARD
END:VTIMEZONE
BEGIN:VTIMEZONE
TZID:UTC
BEGIN:STANDARD
DTSTART:20250725T014850Z
TZOFFSETFROM:+0000
TZOFFSETTO:+0000
END:STANDARD
END:VTIMEZONE
BEGIN:VEVENT
UID:36-32
DTSTAMP:20260421T014850Z
SUMMARY:Safety Briefing for Newcomers
LOCATION:
ORGANIZER;CN=Margarita Eustacchio:MAILTO:Margarita.Eustacchio@ist.ac.at
DTSTART;TZID=Europe/Vienna:20260707T100000
DTEND;TZID=Europe/Vienna:20260707T110000
X-ALT-DESC;FMTTYPE=TEXT/HTML:Location: I21.EG Heinzel &amp;nbsp\;
CATEGORIES:Safety training
URL;VALUE=URI:https://lsf.pages.ist.ac.at/mc-events/safety-briefing-for-new
 comers-4/
METHOD:PUBLISH
END:VEVENT
END:VCALENDAR