BEGIN:VCALENDAR
VERSION:2.0
PRODID:spatie/icalendar-generator
DESCRIPTION:Events from Lab Support Facility
X-WR-CALDESC:Events from Lab Support Facility
REFRESH-INTERVAL;VALUE=DURATION:PT1440M
X-PUBLISHED-TTL:PT1440M
BEGIN:VTIMEZONE
TZID:Europe/Vienna
BEGIN:STANDARD
DTSTART:20251026T030000Z
TZOFFSETFROM:+0200
TZOFFSETTO:+0100
END:STANDARD
BEGIN:DAYLIGHT
DTSTART:20260329T020000Z
TZOFFSETFROM:+0100
TZOFFSETTO:+0200
END:DAYLIGHT
END:VTIMEZONE
BEGIN:VTIMEZONE
TZID:UTC
BEGIN:STANDARD
DTSTART:20250724T194632Z
TZOFFSETFROM:+0000
TZOFFSETTO:+0000
END:STANDARD
END:VTIMEZONE
BEGIN:VEVENT
UID:32-28
DTSTAMP:20260420T194632Z
SUMMARY:In-house pipette service (Eppendorf)
LOCATION:
ORGANIZER;CN=Margarita Eustacchio:MAILTO:Margarita.Eustacchio@ist.ac.at
DTSTART;TZID=Europe/Vienna;VALUE=DATE:20260413
DTEND;TZID=Europe/Vienna;VALUE=DATE:20260416
X-ALT-DESC;FMTTYPE=TEXT/HTML:Please register here: https://seatable.ista.ac
 .at/dtable/forms/82fd8ee8-fdf2-4d09-9709-5a92fa0dc01f/ Find more informati
 on here: https://lsf.pages.ist.ac.at/in-house-pipette-service-eppendorf/
CATEGORIES:External services
URL;VALUE=URI:https://lsf.pages.ist.ac.at/mc-events/in-house-pipette-servic
 e-eppendorf/
METHOD:PUBLISH
END:VEVENT
END:VCALENDAR